BEGIN:VCALENDAR
VERSION:2.0
PRODID:-//Baxter Memorial Library - ECPv6.15.20//NONSGML v1.0//EN
CALSCALE:GREGORIAN
METHOD:PUBLISH
X-ORIGINAL-URL:https://baxterlibrary.org
X-WR-CALDESC:Events for Baxter Memorial Library
REFRESH-INTERVAL;VALUE=DURATION:PT1H
X-Robots-Tag:noindex
X-PUBLISHED-TTL:PT1H
BEGIN:VTIMEZONE
TZID:America/New_York
BEGIN:DAYLIGHT
TZOFFSETFROM:-0500
TZOFFSETTO:-0400
TZNAME:EDT
DTSTART:20250309T070000
END:DAYLIGHT
BEGIN:STANDARD
TZOFFSETFROM:-0400
TZOFFSETTO:-0500
TZNAME:EST
DTSTART:20251102T060000
END:STANDARD
BEGIN:DAYLIGHT
TZOFFSETFROM:-0500
TZOFFSETTO:-0400
TZNAME:EDT
DTSTART:20260308T070000
END:DAYLIGHT
BEGIN:STANDARD
TZOFFSETFROM:-0400
TZOFFSETTO:-0500
TZNAME:EST
DTSTART:20261101T060000
END:STANDARD
BEGIN:DAYLIGHT
TZOFFSETFROM:-0500
TZOFFSETTO:-0400
TZNAME:EDT
DTSTART:20270314T070000
END:DAYLIGHT
BEGIN:STANDARD
TZOFFSETFROM:-0400
TZOFFSETTO:-0500
TZNAME:EST
DTSTART:20271107T060000
END:STANDARD
END:VTIMEZONE
BEGIN:VEVENT
DTSTART;TZID=America/New_York:20260423T101500
DTEND;TZID=America/New_York:20260423T101500
DTSTAMP:20260420T062301
CREATED:20260220T155838Z
LAST-MODIFIED:20260220T155838Z
UID:10001481-1776939300-1776939300@baxterlibrary.org
SUMMARY:Book Group: The Storyteller by Jodi Picoult
DESCRIPTION:Please join us for a discussion of The Storyteller by Jodi Picoult. \nFree and open to all.
URL:https://baxterlibrary.org/event/book-group-the-storyteller-by-jodi-picoult/
CATEGORIES:Adult,Book Club
ATTACH;FMTTYPE=image/png:https://baxterlibrary.org/wp-content/uploads/2026/02/Spring-2026-Book-Group-4.25-x-5.5-in-Instagram-Post.png
END:VEVENT
BEGIN:VEVENT
DTSTART;TZID=America/New_York:20260423T160000
DTEND;TZID=America/New_York:20260423T173000
DTSTAMP:20260420T062301
CREATED:20250909T193017Z
LAST-MODIFIED:20250909T193911Z
UID:10001402-1776960000-1776965400@baxterlibrary.org
SUMMARY:Sewing Class Adult
DESCRIPTION:This class is currently full. \nFor information on future classes contact Youth Services.
URL:https://baxterlibrary.org/event/sewing-class-adult/2026-04-23/
CATEGORIES:Adult
ATTACH;FMTTYPE=image/jpeg:https://baxterlibrary.org/wp-content/uploads/2025/09/Beige-Modern-Sewing-Workshop-Flyer-2-1.jpg
END:VEVENT
BEGIN:VEVENT
DTSTART;TZID=America/New_York:20260423T173000
DTEND;TZID=America/New_York:20260423T183000
DTSTAMP:20260420T062301
CREATED:20260319T164634Z
LAST-MODIFIED:20260319T164634Z
UID:10001510-1776965400-1776969000@baxterlibrary.org
SUMMARY:Suncatcher Art Night
DESCRIPTION:Join us on Thursday April 23rd from 5:30-6:30 for a special art class just for grown-ups! \nReserve your spot today and make a beaded suncatcher. Limited spots are available. \nCall Youth Services to sign up today at 222-1190
URL:https://baxterlibrary.org/event/suncatcher-art-night/
CATEGORIES:Adult
ATTACH;FMTTYPE=image/jpeg:https://baxterlibrary.org/wp-content/uploads/2026/03/Suncatcher-Class.jpg
END:VEVENT
BEGIN:VEVENT
DTSTART;TZID=America/New_York:20260429T160000
DTEND;TZID=America/New_York:20260429T190000
DTSTAMP:20260420T062301
CREATED:20260417T142449Z
LAST-MODIFIED:20260417T142457Z
UID:10001528-1777478400-1777489200@baxterlibrary.org
SUMMARY:Baxter Book Fair
DESCRIPTION:Do you long for the Scholastic Book Fairs and Pizza Hut BOOK IT Reading Program of the 90s? Come join us for a nostalgic experience and celebrate the joy of reading with others!
URL:https://baxterlibrary.org/event/baxter-book-fair/
CATEGORIES:Adult
ATTACH;FMTTYPE=image/png:https://baxterlibrary.org/wp-content/uploads/2026/03/Green-And-Red-Retro-Illustrative-Pizza-Party-Flyer-1920-x-1080-px.png
END:VEVENT
BEGIN:VEVENT
DTSTART;TZID=America/New_York:20260430T180000
DTEND;TZID=America/New_York:20260430T193000
DTSTAMP:20260420T062301
CREATED:20260211T221432Z
LAST-MODIFIED:20260211T221508Z
UID:10001470-1777572000-1777577400@baxterlibrary.org
SUMMARY:Author Event: Jerry Farnham
DESCRIPTION:Join us for an evening with Gorham’s own Jerry Farnham! \nHis three book (so far!) series begins with Red at Night\, in which Jerry delivers a gripping tale of suspense\, hidden community secrets\, and unexpected romance\, set in and around Boothbay Harbor. It continues with Red in the Morning and a prequel\, First Light. \nWhether you’ve been following the series since the first page or are just discovering it now\, Jerry is looking forward to a wonderful evening of discussion\, questions\, and shared love for stories.
URL:https://baxterlibrary.org/event/author-event-jerry-farnham/
CATEGORIES:Adult,Author Talk,Friends of BML
ATTACH;FMTTYPE=image/png:https://baxterlibrary.org/wp-content/uploads/2026/02/Jerry-Farnham-1920-x-1080-px.png
END:VEVENT
END:VCALENDAR