BEGIN:VCALENDAR
VERSION:2.0
PRODID:-//Baxter Memorial Library - ECPv6.15.20//NONSGML v1.0//EN
CALSCALE:GREGORIAN
METHOD:PUBLISH
X-WR-CALNAME:Baxter Memorial Library
X-ORIGINAL-URL:https://baxterlibrary.org
X-WR-CALDESC:Events for Baxter Memorial Library
REFRESH-INTERVAL;VALUE=DURATION:PT1H
X-Robots-Tag:noindex
X-PUBLISHED-TTL:PT1H
BEGIN:VTIMEZONE
TZID:America/New_York
BEGIN:DAYLIGHT
TZOFFSETFROM:-0500
TZOFFSETTO:-0400
TZNAME:EDT
DTSTART:20250309T070000
END:DAYLIGHT
BEGIN:STANDARD
TZOFFSETFROM:-0400
TZOFFSETTO:-0500
TZNAME:EST
DTSTART:20251102T060000
END:STANDARD
BEGIN:DAYLIGHT
TZOFFSETFROM:-0500
TZOFFSETTO:-0400
TZNAME:EDT
DTSTART:20260308T070000
END:DAYLIGHT
BEGIN:STANDARD
TZOFFSETFROM:-0400
TZOFFSETTO:-0500
TZNAME:EST
DTSTART:20261101T060000
END:STANDARD
BEGIN:DAYLIGHT
TZOFFSETFROM:-0500
TZOFFSETTO:-0400
TZNAME:EDT
DTSTART:20270314T070000
END:DAYLIGHT
BEGIN:STANDARD
TZOFFSETFROM:-0400
TZOFFSETTO:-0500
TZNAME:EST
DTSTART:20271107T060000
END:STANDARD
END:VTIMEZONE
BEGIN:VEVENT
DTSTART;TZID=America/New_York:20260304T180000
DTEND;TZID=America/New_York:20260304T190000
DTSTAMP:20260420T080547
CREATED:20260127T231020Z
LAST-MODIFIED:20260127T231139Z
UID:10001465-1772647200-1772650800@baxterlibrary.org
SUMMARY:Author Event: Kristine Delano
DESCRIPTION:Former Wall Street executive Kristine Delano draws on her high-stakes experience balancing career and family to deliver The Lies We Trade\, a gripping thriller fueled by ambition\, secrets\, sacrifice\, and faith.\n\nMeredith Hansel is Wall Street’s rising star until on the day she’s set to celebrate her biggest win yet and it all comes crumbling down\, exposing how dangerous the climb to the top can be. A high-powered Wall Street career\, a beautiful family in a quiet suburban neighborhood—she seems to have everything. Which means she has everything to lose. 
URL:https://baxterlibrary.org/event/author-event-kristine-delano/
CATEGORIES:Adult,Author Talk,Friends of BML
ATTACH;FMTTYPE=image/png:https://baxterlibrary.org/wp-content/uploads/2026/01/Kristine-Delano-1920-x-1080-px.png
END:VEVENT
BEGIN:VEVENT
DTSTART;TZID=America/New_York:20260307T100000
DTEND;TZID=America/New_York:20260307T130000
DTSTAMP:20260420T080547
CREATED:20260129T233533Z
LAST-MODIFIED:20260129T233604Z
UID:10001468-1772877600-1772888400@baxterlibrary.org
SUMMARY:Repair Fair
DESCRIPTION:Bring your broken or damaged items\, and learn how to fix them alongside our handy volunteers!Things that you can bring include:Lamps & Small AppliancesClothing & JacketsWood FurnitureJewelryTools that need sharpeningBicyclesGive new life to old items\, meet your neighbors\, learn repair skills\, and have a cup of coffee on us!\nIf you’re feeling thankful to our volunteers for helping you fix things\, please consider bringing a donation for the Gorham Food Pantry!
URL:https://baxterlibrary.org/event/repair-fair-3/
CATEGORIES:Adult,All Ages,Teens
ATTACH;FMTTYPE=image/png:https://baxterlibrary.org/wp-content/uploads/2026/01/Repair-Fair-FB-March-2026-1920-x-1080-px.png
END:VEVENT
BEGIN:VEVENT
DTSTART;TZID=America/New_York:20260312T101500
DTEND;TZID=America/New_York:20260312T101500
DTSTAMP:20260420T080547
CREATED:20260220T154812Z
LAST-MODIFIED:20260220T154812Z
UID:10001478-1773310500-1773310500@baxterlibrary.org
SUMMARY:Book Group: Unsheltered by Barbara Kingsolver
DESCRIPTION:Please join us for a discussion of Unsheltered by Barbara Kingsolver. \nFree and open to all.
URL:https://baxterlibrary.org/event/book-group-unsheltered-by-barbara-kingsolver/
CATEGORIES:Adult,Book Club
ATTACH;FMTTYPE=image/png:https://baxterlibrary.org/wp-content/uploads/2026/02/Spring-2026-Book-Group-4.25-x-5.5-in-Instagram-Post.png
END:VEVENT
BEGIN:VEVENT
DTSTART;TZID=America/New_York:20260324T140000
DTEND;TZID=America/New_York:20260324T150000
DTSTAMP:20260420T080547
CREATED:20260210T213348Z
LAST-MODIFIED:20260210T230544Z
UID:10001469-1774360800-1774364400@baxterlibrary.org
SUMMARY:Hidden Gems of Maine
DESCRIPTION:This is a fun and inspiring talk that highlights beautiful\, lesser-known places to visit across Maine during the fall\, winter\, and spring — from cozy getaways and scenic drives to hidden trails\, local artisans\, and small-town adventures.  Presented by Nigel Osborne\, Maine State Visitor Information Center Manager.
URL:https://baxterlibrary.org/event/adventuring-through-maine-discovering-hidden-gems/
CATEGORIES:Adult,All Ages
ATTACH;FMTTYPE=image/png:https://baxterlibrary.org/wp-content/uploads/2026/02/Hidden-Gems-of-Maine-1920-x-1080-px.png
END:VEVENT
BEGIN:VEVENT
DTSTART;TZID=America/New_York:20260326T101500
DTEND;TZID=America/New_York:20260326T101500
DTSTAMP:20260420T080547
CREATED:20260220T154845Z
LAST-MODIFIED:20260220T154845Z
UID:10001479-1774520100-1774520100@baxterlibrary.org
SUMMARY:Book Group: Water Moon by Samantha Soto
DESCRIPTION:Please join us for a discussion of Water Moon by Samantha Soto. \nFree and open to all.
URL:https://baxterlibrary.org/event/book-group-water-moon-by-samantha-soto/
CATEGORIES:Adult,Book Club
ATTACH;FMTTYPE=image/png:https://baxterlibrary.org/wp-content/uploads/2026/02/Spring-2026-Book-Group-4.25-x-5.5-in-Instagram-Post.png
END:VEVENT
BEGIN:VEVENT
DTSTART;TZID=America/New_York:20260326T160000
DTEND;TZID=America/New_York:20260326T173000
DTSTAMP:20260420T080547
CREATED:20250909T193017Z
LAST-MODIFIED:20250909T193911Z
UID:10001401-1774540800-1774546200@baxterlibrary.org
SUMMARY:Sewing Class Adult
DESCRIPTION:This class is currently full. \nFor information on future classes contact Youth Services.
URL:https://baxterlibrary.org/event/sewing-class-adult/2026-03-26/
CATEGORIES:Adult
ATTACH;FMTTYPE=image/jpeg:https://baxterlibrary.org/wp-content/uploads/2025/09/Beige-Modern-Sewing-Workshop-Flyer-2-1.jpg
END:VEVENT
END:VCALENDAR